View In:
ArcGIS JavaScript
ArcGIS Online Map Viewer
ArcGIS Earth
ArcMap
View Footprint In:
ArcGIS Online Map Viewer
Service Description: gris_raster_DBO_Orthophoto_2023
Name: gris_raster_DBO_Orthophoto_2023
Description:
Single Fused Map Cache: false
Extent:
XMin: 464999.99999995343
YMin: 5873500.00009127
XMax: 499499.9999919208
YMax: 5898000
Spatial Reference: 25832
(25832)
Initial Extent:
XMin: 464999.99999995343
YMin: 5873500.00009127
XMax: 499499.9999919208
YMax: 5898000
Spatial Reference: 25832
(25832)
Full Extent:
XMin: 464999.99999995343
YMin: 5873500.00009127
XMax: 499499.9999919208
YMax: 5898000
Spatial Reference: 25832
(25832)
Pixel Size X: 0.09999999997671694
Pixel Size Y: 0.09999999962747097
Band Count: 3
Pixel Type: U8
RasterFunction Infos: {"rasterFunctionInfos": [{
"name": "None",
"description": "",
"help": ""
}]}
Mensuration Capabilities: Basic
Has Histograms: true
Has Colormap: false
Has Multi Dimensions : false
Rendering Rule:
Min Scale: 0
Max Scale: 0
Copyright Text:
Service Data Type: esriImageServiceDataTypeRGB
Min Values: 0, 0, 0
Max Values: 255, 255, 255
Mean Values: 99.64118498132405, 104.8317619020209, 103.2793655026899
Standard Deviation Values: 45.280859270986504, 43.539494695668196, 42.331666468349894
Object ID Field:
Fields:
None
Default Mosaic Method: Center
Allowed Mosaic Methods:
SortField:
SortValue: null
Mosaic Operator: First
Default Compression Quality: 75
Default Resampling Method: Bicubic
Max Record Count: null
Max Image Height: 4100
Max Image Width: 15000
Max Download Image Count: null
Max Mosaic Image Count: null
Allow Raster Function: true
Allow Copy: true
Allow Analysis: true
Allow Compute TiePoints: false
Supports Statistics: false
Supports Advanced Queries: false
Use StandardizedQueries: true
Raster Type Infos:
Name: Raster Dataset
Description: Unterstützt alle ArcGIS-Raster-Datasets
Help:
Has Raster Attribute Table: false
Edit Fields Info: null
Ownership Based AccessControl For Rasters: null
Child Resources:
Info
Histograms
Statistics
Key Properties
Legend
Raster Function Infos
Supported Operations:
Export Image
Identify
Measure
Compute Histograms
Compute Statistics Histograms
Get Samples
Compute Class Statistics
Query Boundary
Compute Pixel Location
Validate
Project